BEGIN:VCALENDAR
VERSION:2.0
PRODID:-//hacksw/handcal//NONSGML v1.0//EN
BEGIN:VEVENT
UID:event_3596@bridgefinland.fi
DTSTAMP:20260421T103822Z
DTSTART;TZID=Europe/Helsinki:20260606T111500
DTEND;TZID=Europe/Helsinki:20260606T121500
SUMMARY:43. Tammerbridge Tournament Rally 2
END:VEVENT
END:VCALENDAR
