BEGIN:VCALENDAR
VERSION:2.0
PRODID:-//hacksw/handcal//NONSGML v1.0//EN
BEGIN:VEVENT
UID:event_3552@bridgefinland.fi
DTSTAMP:20260420T081315Z
DTSTART;TZID=Europe/Helsinki:20260310T180000
DTEND;TZID=Europe/Helsinki:20260310T190000
SUMMARY:Boris Seligsonin muistokilpailu RealBridgessÃ¤
END:VEVENT
END:VCALENDAR
