BEGIN:VCALENDAR
VERSION:2.0
PRODID:-//hacksw/handcal//NONSGML v1.0//EN
BEGIN:VEVENT
UID:event_3554@bridgefinland.fi
DTSTAMP:20260421T084227Z
DTSTART;TZID=Europe/Helsinki:20260308T100000
DTEND;TZID=Europe/Helsinki:20260308T110000
SUMMARY:PieksÃ¤mÃ¤ki MP-joukkuekilpailu
END:VEVENT
END:VCALENDAR
