BEGIN:VCALENDAR
VERSION:2.0
PRODID:-//hacksw/handcal//NONSGML v1.0//EN
BEGIN:VEVENT
UID:event_3555@bridgefinland.fi
DTSTAMP:20260421T101032Z
DTSTART;TZID=Europe/Helsinki:20260411T120000
DTEND;TZID=Europe/Helsinki:20260411T130000
SUMMARY:MP-parikilpailu RealBridge
END:VEVENT
END:VCALENDAR
