BEGIN:VCALENDAR
VERSION:2.0
PRODID:-//hacksw/handcal//NONSGML v1.0//EN
BEGIN:VEVENT
UID:event_3556@bridgefinland.fi
DTSTAMP:20260421T083019Z
DTSTART;TZID=Europe/Helsinki:20260314T101500
DTEND;TZID=Europe/Helsinki:20260314T111500
SUMMARY:SM-joukkuekilpailu, karsinta Vaihe 1 2-pvÃ¤
END:VEVENT
END:VCALENDAR
