BEGIN:VCALENDAR
VERSION:2.0
PRODID:-//hacksw/handcal//NONSGML v1.0//EN
BEGIN:VEVENT
UID:event_3564@bridgefinland.fi
DTSTAMP:20260420T082220Z
DTSTART;TZID=Europe/Helsinki:20260418T110000
DTEND;TZID=Europe/Helsinki:20260418T120000
SUMMARY:Vasa Bk Parikilpailu
END:VEVENT
END:VCALENDAR
