BEGIN:VCALENDAR
VERSION:2.0
PRODID:-//hacksw/handcal//NONSGML v1.0//EN
BEGIN:VEVENT
UID:event_3572@bridgefinland.fi
DTSTAMP:20260420T082220Z
DTSTART;TZID=Europe/Helsinki:20260404T153000
DTEND;TZID=Europe/Helsinki:20260404T163000
SUMMARY:PÃ¤Ã¤siÃ¤isbridge PÃ¤Ã¤siÃ¤iscup SESSIO 2
END:VEVENT
END:VCALENDAR
