BEGIN:VCALENDAR
VERSION:2.0
PRODID:-//hacksw/handcal//NONSGML v1.0//EN
BEGIN:VEVENT
UID:event_3592@bridgefinland.fi
DTSTAMP:20260420T111430Z
DTSTART;TZID=Europe/Helsinki:20260627T110000
DTEND;TZID=Europe/Helsinki:20260627T120000
SUMMARY:Lappeenranta MP parikilpailu
END:VEVENT
END:VCALENDAR
