BEGIN:VCALENDAR
VERSION:2.0
PRODID:-//hacksw/handcal//NONSGML v1.0//EN
BEGIN:VEVENT
UID:event_3593@bridgefinland.fi
DTSTAMP:20260420T111429Z
DTSTART;TZID=Europe/Helsinki:20260628T100000
DTEND;TZID=Europe/Helsinki:20260628T110000
SUMMARY:Lappeenranta MP Parikilpailu IMP
END:VEVENT
END:VCALENDAR
