BEGIN:VCALENDAR
VERSION:2.0
PRODID:-//hacksw/handcal//NONSGML v1.0//EN
BEGIN:VEVENT
UID:event_3598@bridgefinland.fi
DTSTAMP:20260420T145838Z
DTSTART;TZID=Europe/Helsinki:20260511T110000
DTEND;TZID=Europe/Helsinki:20260511T120000
SUMMARY:Bridge Areenan talkoot
END:VEVENT
END:VCALENDAR
